BEGIN:VCALENDAR
VERSION:2.0
PRODID:-//Contratero//ES
CALSCALE:GREGORIAN
METHOD:PUBLISH
BEGIN:VEVENT
UID:2023000274 CD 129 C2 02@contratero.es
DTSTAMP:20260424T203841Z
DTSTART:20231228T235959
DTEND:20231229T005959
SUMMARY:Cierre: Adquisición del mantenimiento de herramienta de pr
DESCRIPTION:Adquisición del mantenimiento de herramienta de programación Delphi-400 para EMUASA\\n\\nOrganismo: Gerencia de la Empresa Municipal de Aguas y Saneamiento de Murcia S.A.\\n\\nVer en Contratero: https://contratero.es/contracts/2023000274 CD 129 C2 02
URL:https://contratero.es/contracts/2023000274 CD 129 C2 02
STATUS:CONFIRMED
BEGIN:VALARM
TRIGGER:-P1D
ACTION:DISPLAY
DESCRIPTION:Recordatorio: Adquisición del mantenimiento 
END:VALARM
END:VEVENT
END:VCALENDAR